BEGIN:VCALENDAR
VERSION:2.0
PRODID:-//Musical Theatre Academy - ECPv6.15.11//NONSGML v1.0//EN
CALSCALE:GREGORIAN
METHOD:PUBLISH
X-WR-CALNAME:Musical Theatre Academy
X-ORIGINAL-URL:https://www.mta.vision
X-WR-CALDESC:Veranstaltungen für Musical Theatre Academy
REFRESH-INTERVAL;VALUE=DURATION:PT1H
X-Robots-Tag:noindex
X-PUBLISHED-TTL:PT1H
BEGIN:VTIMEZONE
TZID:Europe/Vienna
BEGIN:DAYLIGHT
TZOFFSETFROM:+0100
TZOFFSETTO:+0200
TZNAME:CEST
DTSTART:20240331T010000
END:DAYLIGHT
BEGIN:STANDARD
TZOFFSETFROM:+0200
TZOFFSETTO:+0100
TZNAME:CET
DTSTART:20241027T010000
END:STANDARD
BEGIN:DAYLIGHT
TZOFFSETFROM:+0100
TZOFFSETTO:+0200
TZNAME:CEST
DTSTART:20250330T010000
END:DAYLIGHT
BEGIN:STANDARD
TZOFFSETFROM:+0200
TZOFFSETTO:+0100
TZNAME:CET
DTSTART:20251026T010000
END:STANDARD
BEGIN:DAYLIGHT
TZOFFSETFROM:+0100
TZOFFSETTO:+0200
TZNAME:CEST
DTSTART:20260329T010000
END:DAYLIGHT
BEGIN:STANDARD
TZOFFSETFROM:+0200
TZOFFSETTO:+0100
TZNAME:CET
DTSTART:20261025T010000
END:STANDARD
END:VTIMEZONE
BEGIN:VEVENT
DTSTART;TZID=Europe/Vienna:20251206T090000
DTEND;TZID=Europe/Vienna:20251206T130000
DTSTAMP:20260424T212407
CREATED:20250901T152006Z
LAST-MODIFIED:20250901T152006Z
UID:8203-1765011600-1765026000@www.mta.vision
SUMMARY:COMPANY DAY - BASICS
DESCRIPTION:
URL:https://www.mta.vision/event/company-day-basics-35/
END:VEVENT
BEGIN:VEVENT
DTSTART;TZID=Europe/Vienna:20251206T100000
DTEND;TZID=Europe/Vienna:20251206T140000
DTSTAMP:20260424T212407
CREATED:20250901T152106Z
LAST-MODIFIED:20250901T152106Z
UID:8213-1765015200-1765029600@www.mta.vision
SUMMARY:COMPANY DAY - INTENSIV
DESCRIPTION:
URL:https://www.mta.vision/event/company-day-intensiv-22/
END:VEVENT
BEGIN:VEVENT
DTSTART;VALUE=DATE:20251220
DTEND;VALUE=DATE:20251221
DTSTAMP:20260424T212407
CREATED:20250911T112210Z
LAST-MODIFIED:20250911T112210Z
UID:8242-1766188800-1766275199@www.mta.vision
SUMMARY:Christkindlgala- Schauspielhaus Linz
DESCRIPTION:Proben und Aufführung werden rechtzeitig bekannt gegeben
URL:https://www.mta.vision/event/christkindlgala-schauspielhaus-linz/
END:VEVENT
END:VCALENDAR