BEGIN:VCALENDAR
VERSION:2.0
PRODID:-//Musical Theatre Academy - ECPv6.15.11//NONSGML v1.0//EN
CALSCALE:GREGORIAN
METHOD:PUBLISH
X-WR-CALNAME:Musical Theatre Academy
X-ORIGINAL-URL:https://www.mta.vision
X-WR-CALDESC:Veranstaltungen für Musical Theatre Academy
REFRESH-INTERVAL;VALUE=DURATION:PT1H
X-Robots-Tag:noindex
X-PUBLISHED-TTL:PT1H
BEGIN:VTIMEZONE
TZID:Europe/Vienna
BEGIN:DAYLIGHT
TZOFFSETFROM:+0100
TZOFFSETTO:+0200
TZNAME:CEST
DTSTART:20240331T010000
END:DAYLIGHT
BEGIN:STANDARD
TZOFFSETFROM:+0200
TZOFFSETTO:+0100
TZNAME:CET
DTSTART:20241027T010000
END:STANDARD
BEGIN:DAYLIGHT
TZOFFSETFROM:+0100
TZOFFSETTO:+0200
TZNAME:CEST
DTSTART:20250330T010000
END:DAYLIGHT
BEGIN:STANDARD
TZOFFSETFROM:+0200
TZOFFSETTO:+0100
TZNAME:CET
DTSTART:20251026T010000
END:STANDARD
BEGIN:DAYLIGHT
TZOFFSETFROM:+0100
TZOFFSETTO:+0200
TZNAME:CEST
DTSTART:20260329T010000
END:DAYLIGHT
BEGIN:STANDARD
TZOFFSETFROM:+0200
TZOFFSETTO:+0100
TZNAME:CET
DTSTART:20261025T010000
END:STANDARD
END:VTIMEZONE
BEGIN:VEVENT
DTSTART;TZID=Europe/Vienna:20250909T180000
DTEND;TZID=Europe/Vienna:20250909T190000
DTSTAMP:20260425T011003
CREATED:20250901T152148Z
LAST-MODIFIED:20250911T111420Z
UID:8222-1757440800-1757444400@www.mta.vision
SUMMARY:Infostunde Pre-Basics
DESCRIPTION:
URL:https://www.mta.vision/event/infostunde-pre-basics-2/
LOCATION:Buchensaal\, Puchenau
END:VEVENT
BEGIN:VEVENT
DTSTART;TZID=Europe/Vienna:20250909T190000
DTEND;TZID=Europe/Vienna:20250909T194500
DTSTAMP:20260425T011003
CREATED:20250901T152149Z
LAST-MODIFIED:20250911T111520Z
UID:8223-1757444400-1757447100@www.mta.vision
SUMMARY:Infostunde Basics
DESCRIPTION:
URL:https://www.mta.vision/event/infostunde-basics-2/
LOCATION:Buchensaal\, Puchenau
END:VEVENT
BEGIN:VEVENT
DTSTART;TZID=Europe/Vienna:20250909T194500
DTEND;TZID=Europe/Vienna:20250909T203000
DTSTAMP:20260425T011003
CREATED:20250901T152149Z
LAST-MODIFIED:20250911T111327Z
UID:8224-1757447100-1757449800@www.mta.vision
SUMMARY:Infostunde Intensives/Stage-Group
DESCRIPTION:
URL:https://www.mta.vision/event/infostunde-intensives-stage-group-2/
LOCATION:Buchensaal\, Puchenau
END:VEVENT
BEGIN:VEVENT
DTSTART;TZID=Europe/Vienna:20250913T140000
DTEND;TZID=Europe/Vienna:20250913T180000
DTSTAMP:20260425T011003
CREATED:20250911T111945Z
LAST-MODIFIED:20250911T111945Z
UID:8238-1757772000-1757786400@www.mta.vision
SUMMARY:Herbstfest/ Muldenstraße
DESCRIPTION:
URL:https://www.mta.vision/event/herbstfest-muldenstrasse/
END:VEVENT
END:VCALENDAR