BEGIN:VCALENDAR
VERSION:2.0
PRODID:-//Musical Theatre Academy - ECPv6.15.11//NONSGML v1.0//EN
CALSCALE:GREGORIAN
METHOD:PUBLISH
X-ORIGINAL-URL:https://www.mta.vision
X-WR-CALDESC:Veranstaltungen für Musical Theatre Academy
REFRESH-INTERVAL;VALUE=DURATION:PT1H
X-Robots-Tag:noindex
X-PUBLISHED-TTL:PT1H
BEGIN:VTIMEZONE
TZID:Europe/Vienna
BEGIN:DAYLIGHT
TZOFFSETFROM:+0100
TZOFFSETTO:+0200
TZNAME:CEST
DTSTART:20230326T010000
END:DAYLIGHT
BEGIN:STANDARD
TZOFFSETFROM:+0200
TZOFFSETTO:+0100
TZNAME:CET
DTSTART:20231029T010000
END:STANDARD
BEGIN:DAYLIGHT
TZOFFSETFROM:+0100
TZOFFSETTO:+0200
TZNAME:CEST
DTSTART:20240331T010000
END:DAYLIGHT
BEGIN:STANDARD
TZOFFSETFROM:+0200
TZOFFSETTO:+0100
TZNAME:CET
DTSTART:20241027T010000
END:STANDARD
BEGIN:DAYLIGHT
TZOFFSETFROM:+0100
TZOFFSETTO:+0200
TZNAME:CEST
DTSTART:20250330T010000
END:DAYLIGHT
BEGIN:STANDARD
TZOFFSETFROM:+0200
TZOFFSETTO:+0100
TZNAME:CET
DTSTART:20251026T010000
END:STANDARD
END:VTIMEZONE
BEGIN:VEVENT
DTSTART;TZID=Europe/Vienna:20241109T090000
DTEND;TZID=Europe/Vienna:20241109T130000
DTSTAMP:20260425T151724
CREATED:20240704T190643Z
LAST-MODIFIED:20240704T190643Z
UID:7722-1731142800-1731157200@www.mta.vision
SUMMARY:COMPANY DAY - BASICS
DESCRIPTION:
URL:https://www.mta.vision/event/company-day-basics-18/
END:VEVENT
BEGIN:VEVENT
DTSTART;TZID=Europe/Vienna:20241116T100000
DTEND;TZID=Europe/Vienna:20241116T140000
DTSTAMP:20260425T151724
CREATED:20240704T190645Z
LAST-MODIFIED:20240704T190834Z
UID:7730-1731751200-1731765600@www.mta.vision
SUMMARY:COMPANY DAY - INTENSIV
DESCRIPTION:
URL:https://www.mta.vision/event/company-day-basics-26/
END:VEVENT
END:VCALENDAR