BEGIN:VCALENDAR
VERSION:2.0
PRODID:-//Musical Theatre Academy - ECPv6.15.11//NONSGML v1.0//EN
CALSCALE:GREGORIAN
METHOD:PUBLISH
X-WR-CALNAME:Musical Theatre Academy
X-ORIGINAL-URL:https://www.mta.vision
X-WR-CALDESC:Veranstaltungen für Musical Theatre Academy
REFRESH-INTERVAL;VALUE=DURATION:PT1H
X-Robots-Tag:noindex
X-PUBLISHED-TTL:PT1H
BEGIN:VTIMEZONE
TZID:Europe/Vienna
BEGIN:DAYLIGHT
TZOFFSETFROM:+0100
TZOFFSETTO:+0200
TZNAME:CEST
DTSTART:20230326T010000
END:DAYLIGHT
BEGIN:STANDARD
TZOFFSETFROM:+0200
TZOFFSETTO:+0100
TZNAME:CET
DTSTART:20231029T010000
END:STANDARD
BEGIN:DAYLIGHT
TZOFFSETFROM:+0100
TZOFFSETTO:+0200
TZNAME:CEST
DTSTART:20240331T010000
END:DAYLIGHT
BEGIN:STANDARD
TZOFFSETFROM:+0200
TZOFFSETTO:+0100
TZNAME:CET
DTSTART:20241027T010000
END:STANDARD
BEGIN:DAYLIGHT
TZOFFSETFROM:+0100
TZOFFSETTO:+0200
TZNAME:CEST
DTSTART:20250330T010000
END:DAYLIGHT
BEGIN:STANDARD
TZOFFSETFROM:+0200
TZOFFSETTO:+0100
TZNAME:CET
DTSTART:20251026T010000
END:STANDARD
END:VTIMEZONE
BEGIN:VEVENT
DTSTART;TZID=Europe/Vienna:20240910T180000
DTEND;TZID=Europe/Vienna:20240910T190000
DTSTAMP:20260425T180719
CREATED:20240704T190715Z
LAST-MODIFIED:20240704T190715Z
UID:7740-1725991200-1725994800@www.mta.vision
SUMMARY:Infostunde Pre-Basics
DESCRIPTION:
URL:https://www.mta.vision/event/infostunde-pre-basics/
LOCATION:Buchensaal\, Puchenau
END:VEVENT
BEGIN:VEVENT
DTSTART;TZID=Europe/Vienna:20240910T190000
DTEND;TZID=Europe/Vienna:20240910T194500
DTSTAMP:20260425T180719
CREATED:20240704T190730Z
LAST-MODIFIED:20240704T190730Z
UID:7741-1725994800-1725997500@www.mta.vision
SUMMARY:Infostunde Basics
DESCRIPTION:
URL:https://www.mta.vision/event/infostunde-basics/
LOCATION:Buchensaal\, Puchenau
END:VEVENT
BEGIN:VEVENT
DTSTART;TZID=Europe/Vienna:20240910T194500
DTEND;TZID=Europe/Vienna:20240910T203000
DTSTAMP:20260425T180719
CREATED:20240704T190730Z
LAST-MODIFIED:20240704T190730Z
UID:7742-1725997500-1726000200@www.mta.vision
SUMMARY:Infostunde Intensives/Stage-Group
DESCRIPTION:
URL:https://www.mta.vision/event/infostunde-intensives-stage-group/
LOCATION:Buchensaal\, Puchenau
END:VEVENT
BEGIN:VEVENT
DTSTART;TZID=Europe/Vienna:20240917T000000
DTEND;TZID=Europe/Vienna:20241008T000000
DTSTAMP:20260425T180719
CREATED:20240704T190730Z
LAST-MODIFIED:20240704T191404Z
UID:7743-1726531200-1728345600@www.mta.vision
SUMMARY:Schnupperzeit Pre-Basics
DESCRIPTION:
URL:https://www.mta.vision/event/schnupperzeit-pre-basics/
END:VEVENT
END:VCALENDAR