BEGIN:VCALENDAR
VERSION:2.0
PRODID:-//Musical Theatre Academy - ECPv6.15.11//NONSGML v1.0//EN
CALSCALE:GREGORIAN
METHOD:PUBLISH
X-WR-CALNAME:Musical Theatre Academy
X-ORIGINAL-URL:https://www.mta.vision
X-WR-CALDESC:Veranstaltungen für Musical Theatre Academy
REFRESH-INTERVAL;VALUE=DURATION:PT1H
X-Robots-Tag:noindex
X-PUBLISHED-TTL:PT1H
BEGIN:VTIMEZONE
TZID:Europe/Vienna
BEGIN:DAYLIGHT
TZOFFSETFROM:+0100
TZOFFSETTO:+0200
TZNAME:CEST
DTSTART:20230326T010000
END:DAYLIGHT
BEGIN:STANDARD
TZOFFSETFROM:+0200
TZOFFSETTO:+0100
TZNAME:CET
DTSTART:20231029T010000
END:STANDARD
BEGIN:DAYLIGHT
TZOFFSETFROM:+0100
TZOFFSETTO:+0200
TZNAME:CEST
DTSTART:20240331T010000
END:DAYLIGHT
BEGIN:STANDARD
TZOFFSETFROM:+0200
TZOFFSETTO:+0100
TZNAME:CET
DTSTART:20241027T010000
END:STANDARD
BEGIN:DAYLIGHT
TZOFFSETFROM:+0100
TZOFFSETTO:+0200
TZNAME:CEST
DTSTART:20250330T010000
END:DAYLIGHT
BEGIN:STANDARD
TZOFFSETFROM:+0200
TZOFFSETTO:+0100
TZNAME:CET
DTSTART:20251026T010000
END:STANDARD
END:VTIMEZONE
BEGIN:VEVENT
DTSTART;VALUE=DATE:20240625
DTEND;VALUE=DATE:20240626
DTSTAMP:20260425T215345
CREATED:20230917T144955Z
LAST-MODIFIED:20230917T145532Z
UID:7418-1719273600-1719359999@www.mta.vision
SUMMARY:MTA Prüfungen Basics
DESCRIPTION:
URL:https://www.mta.vision/event/mta-pruefungen-basics/
END:VEVENT
BEGIN:VEVENT
DTSTART;VALUE=DATE:20240628
DTEND;VALUE=DATE:20240629
DTSTAMP:20260425T215345
CREATED:20230917T144955Z
LAST-MODIFIED:20230917T145514Z
UID:7419-1719532800-1719532800@www.mta.vision
SUMMARY:MTA Prüfungen Intensives
DESCRIPTION:
URL:https://www.mta.vision/event/mta-pruefungen-intensives/
END:VEVENT
END:VCALENDAR