BEGIN:VCALENDAR
VERSION:2.0
PRODID:-//Musical Theatre Academy - ECPv6.15.11//NONSGML v1.0//EN
CALSCALE:GREGORIAN
METHOD:PUBLISH
X-WR-CALNAME:Musical Theatre Academy
X-ORIGINAL-URL:https://www.mta.vision
X-WR-CALDESC:Veranstaltungen für Musical Theatre Academy
REFRESH-INTERVAL;VALUE=DURATION:PT1H
X-Robots-Tag:noindex
X-PUBLISHED-TTL:PT1H
BEGIN:VTIMEZONE
TZID:Europe/Vienna
BEGIN:DAYLIGHT
TZOFFSETFROM:+0100
TZOFFSETTO:+0200
TZNAME:CEST
DTSTART:20230326T010000
END:DAYLIGHT
BEGIN:STANDARD
TZOFFSETFROM:+0200
TZOFFSETTO:+0100
TZNAME:CET
DTSTART:20231029T010000
END:STANDARD
BEGIN:DAYLIGHT
TZOFFSETFROM:+0100
TZOFFSETTO:+0200
TZNAME:CEST
DTSTART:20240331T010000
END:DAYLIGHT
BEGIN:STANDARD
TZOFFSETFROM:+0200
TZOFFSETTO:+0100
TZNAME:CET
DTSTART:20241027T010000
END:STANDARD
BEGIN:DAYLIGHT
TZOFFSETFROM:+0100
TZOFFSETTO:+0200
TZNAME:CEST
DTSTART:20250330T010000
END:DAYLIGHT
BEGIN:STANDARD
TZOFFSETFROM:+0200
TZOFFSETTO:+0100
TZNAME:CET
DTSTART:20251026T010000
END:STANDARD
END:VTIMEZONE
BEGIN:VEVENT
DTSTART;TZID=Europe/Vienna:20240120T090000
DTEND;TZID=Europe/Vienna:20240120T130000
DTSTAMP:20260426T045146
CREATED:20230917T144935Z
LAST-MODIFIED:20230917T144935Z
UID:7413-1705741200-1705755600@www.mta.vision
SUMMARY:COMPANY DAY - BASICS
DESCRIPTION:
URL:https://www.mta.vision/event/company-day-basics-12/
END:VEVENT
BEGIN:VEVENT
DTSTART;TZID=Europe/Vienna:20240127T100000
DTEND;TZID=Europe/Vienna:20240127T140000
DTSTAMP:20260426T045146
CREATED:20230917T144918Z
LAST-MODIFIED:20230917T144918Z
UID:7405-1706349600-1706364000@www.mta.vision
SUMMARY:COMPANY DAY - INTENSIV
DESCRIPTION:
URL:https://www.mta.vision/event/company-day-intensiv-15/
END:VEVENT
END:VCALENDAR