BEGIN:VCALENDAR
VERSION:2.0
PRODID:-//Musical Theatre Academy - ECPv6.15.11//NONSGML v1.0//EN
CALSCALE:GREGORIAN
METHOD:PUBLISH
X-ORIGINAL-URL:https://www.mta.vision
X-WR-CALDESC:Veranstaltungen für Musical Theatre Academy
REFRESH-INTERVAL;VALUE=DURATION:PT1H
X-Robots-Tag:noindex
X-PUBLISHED-TTL:PT1H
BEGIN:VTIMEZONE
TZID:Europe/Vienna
BEGIN:DAYLIGHT
TZOFFSETFROM:+0100
TZOFFSETTO:+0200
TZNAME:CEST
DTSTART:20240331T010000
END:DAYLIGHT
BEGIN:STANDARD
TZOFFSETFROM:+0200
TZOFFSETTO:+0100
TZNAME:CET
DTSTART:20241027T010000
END:STANDARD
BEGIN:DAYLIGHT
TZOFFSETFROM:+0100
TZOFFSETTO:+0200
TZNAME:CEST
DTSTART:20250330T010000
END:DAYLIGHT
BEGIN:STANDARD
TZOFFSETFROM:+0200
TZOFFSETTO:+0100
TZNAME:CET
DTSTART:20251026T010000
END:STANDARD
BEGIN:DAYLIGHT
TZOFFSETFROM:+0100
TZOFFSETTO:+0200
TZNAME:CEST
DTSTART:20260329T010000
END:DAYLIGHT
BEGIN:STANDARD
TZOFFSETFROM:+0200
TZOFFSETTO:+0100
TZNAME:CET
DTSTART:20261025T010000
END:STANDARD
BEGIN:DAYLIGHT
TZOFFSETFROM:+0100
TZOFFSETTO:+0200
TZNAME:CEST
DTSTART:20270328T010000
END:DAYLIGHT
BEGIN:STANDARD
TZOFFSETFROM:+0200
TZOFFSETTO:+0100
TZNAME:CET
DTSTART:20271031T010000
END:STANDARD
END:VTIMEZONE
BEGIN:VEVENT
DTSTART;TZID=Europe/Vienna:20260418T100000
DTEND;TZID=Europe/Vienna:20260418T140000
DTSTAMP:20260424T151925
CREATED:20250901T152133Z
LAST-MODIFIED:20250901T152133Z
UID:8218-1776506400-1776520800@www.mta.vision
SUMMARY:COMPANY DAY - INTENSIV
DESCRIPTION:
URL:https://www.mta.vision/event/company-day-intensiv-27/
END:VEVENT
BEGIN:VEVENT
DTSTART;TZID=Europe/Vienna:20260411T090000
DTEND;TZID=Europe/Vienna:20260411T130000
DTSTAMP:20260424T151925
CREATED:20250901T152009Z
LAST-MODIFIED:20250901T152009Z
UID:8207-1775898000-1775912400@www.mta.vision
SUMMARY:COMPANY DAY - BASICS
DESCRIPTION:
URL:https://www.mta.vision/event/company-day-basics-39/
END:VEVENT
BEGIN:VEVENT
DTSTART;TZID=Europe/Vienna:20260314T100000
DTEND;TZID=Europe/Vienna:20260314T140000
DTSTAMP:20260424T151925
CREATED:20250901T152133Z
LAST-MODIFIED:20250901T152133Z
UID:8217-1773482400-1773496800@www.mta.vision
SUMMARY:COMPANY DAY - INTENSIV
DESCRIPTION:
URL:https://www.mta.vision/event/company-day-intensiv-26/
END:VEVENT
BEGIN:VEVENT
DTSTART;TZID=Europe/Vienna:20260314T090000
DTEND;TZID=Europe/Vienna:20260314T130000
DTSTAMP:20260424T151925
CREATED:20250901T152009Z
LAST-MODIFIED:20250901T152009Z
UID:8206-1773478800-1773493200@www.mta.vision
SUMMARY:COMPANY DAY - BASICS
DESCRIPTION:
URL:https://www.mta.vision/event/company-day-basics-38/
END:VEVENT
BEGIN:VEVENT
DTSTART;TZID=Europe/Vienna:20260214T100000
DTEND;TZID=Europe/Vienna:20260214T140000
DTSTAMP:20260424T151925
CREATED:20250901T152133Z
LAST-MODIFIED:20250901T152133Z
UID:8216-1771063200-1771077600@www.mta.vision
SUMMARY:COMPANY DAY - INTENSIV
DESCRIPTION:
URL:https://www.mta.vision/event/company-day-intensiv-25/
END:VEVENT
BEGIN:VEVENT
DTSTART;TZID=Europe/Vienna:20260207T090000
DTEND;TZID=Europe/Vienna:20260207T130000
DTSTAMP:20260424T151925
CREATED:20250901T152006Z
LAST-MODIFIED:20250901T152006Z
UID:8205-1770454800-1770469200@www.mta.vision
SUMMARY:COMPANY DAY - BASICS
DESCRIPTION:
URL:https://www.mta.vision/event/company-day-basics-37/
END:VEVENT
BEGIN:VEVENT
DTSTART;TZID=Europe/Vienna:20260131T100000
DTEND;TZID=Europe/Vienna:20260131T140000
DTSTAMP:20260424T151925
CREATED:20250901T152107Z
LAST-MODIFIED:20250901T152107Z
UID:8215-1769853600-1769868000@www.mta.vision
SUMMARY:COMPANY DAY - INTENSIV
DESCRIPTION:
URL:https://www.mta.vision/event/company-day-intensiv-24/
END:VEVENT
BEGIN:VEVENT
DTSTART;TZID=Europe/Vienna:20260117T100000
DTEND;TZID=Europe/Vienna:20260117T140000
DTSTAMP:20260424T151925
CREATED:20250901T152106Z
LAST-MODIFIED:20250901T152106Z
UID:8214-1768644000-1768658400@www.mta.vision
SUMMARY:COMPANY DAY - INTENSIV
DESCRIPTION:
URL:https://www.mta.vision/event/company-day-intensiv-23/
END:VEVENT
BEGIN:VEVENT
DTSTART;TZID=Europe/Vienna:20260117T090000
DTEND;TZID=Europe/Vienna:20260117T130000
DTSTAMP:20260424T151925
CREATED:20250901T152006Z
LAST-MODIFIED:20250901T152006Z
UID:8204-1768640400-1768654800@www.mta.vision
SUMMARY:COMPANY DAY - BASICS
DESCRIPTION:
URL:https://www.mta.vision/event/company-day-basics-36/
END:VEVENT
BEGIN:VEVENT
DTSTART;VALUE=DATE:20251220
DTEND;VALUE=DATE:20251221
DTSTAMP:20260424T151925
CREATED:20250911T112210Z
LAST-MODIFIED:20250911T112210Z
UID:8242-1766188800-1766275199@www.mta.vision
SUMMARY:Christkindlgala- Schauspielhaus Linz
DESCRIPTION:Proben und Aufführung werden rechtzeitig bekannt gegeben
URL:https://www.mta.vision/event/christkindlgala-schauspielhaus-linz/
END:VEVENT
BEGIN:VEVENT
DTSTART;TZID=Europe/Vienna:20251206T100000
DTEND;TZID=Europe/Vienna:20251206T140000
DTSTAMP:20260424T151925
CREATED:20250901T152106Z
LAST-MODIFIED:20250901T152106Z
UID:8213-1765015200-1765029600@www.mta.vision
SUMMARY:COMPANY DAY - INTENSIV
DESCRIPTION:
URL:https://www.mta.vision/event/company-day-intensiv-22/
END:VEVENT
BEGIN:VEVENT
DTSTART;TZID=Europe/Vienna:20251206T090000
DTEND;TZID=Europe/Vienna:20251206T130000
DTSTAMP:20260424T151925
CREATED:20250901T152006Z
LAST-MODIFIED:20250901T152006Z
UID:8203-1765011600-1765026000@www.mta.vision
SUMMARY:COMPANY DAY - BASICS
DESCRIPTION:
URL:https://www.mta.vision/event/company-day-basics-35/
END:VEVENT
BEGIN:VEVENT
DTSTART;TZID=Europe/Vienna:20251115T100000
DTEND;TZID=Europe/Vienna:20251115T140000
DTSTAMP:20260424T151925
CREATED:20250901T152106Z
LAST-MODIFIED:20250901T152106Z
UID:8212-1763200800-1763215200@www.mta.vision
SUMMARY:COMPANY DAY - INTENSIV
DESCRIPTION:
URL:https://www.mta.vision/event/company-day-intensiv-21/
END:VEVENT
BEGIN:VEVENT
DTSTART;TZID=Europe/Vienna:20251108T090000
DTEND;TZID=Europe/Vienna:20251108T130000
DTSTAMP:20260424T151925
CREATED:20250901T152005Z
LAST-MODIFIED:20250901T152005Z
UID:8202-1762592400-1762606800@www.mta.vision
SUMMARY:COMPANY DAY - BASICS
DESCRIPTION:
URL:https://www.mta.vision/event/company-day-basics-34/
END:VEVENT
BEGIN:VEVENT
DTSTART;TZID=Europe/Vienna:20251028T140000
DTEND;TZID=Europe/Vienna:20251028T140000
DTSTAMP:20260424T151925
CREATED:20250911T112108Z
LAST-MODIFIED:20250911T112108Z
UID:8240-1761660000-1761660000@www.mta.vision
SUMMARY:Oberbank Show
DESCRIPTION:Proben und Show werden rechtzeitig bekannt gegeben
URL:https://www.mta.vision/event/oberbank-show/
END:VEVENT
BEGIN:VEVENT
DTSTART;TZID=Europe/Vienna:20251018T100000
DTEND;TZID=Europe/Vienna:20251018T140000
DTSTAMP:20260424T151925
CREATED:20250901T152106Z
LAST-MODIFIED:20250901T152106Z
UID:8211-1760781600-1760796000@www.mta.vision
SUMMARY:COMPANY DAY - INTENSIV
DESCRIPTION:
URL:https://www.mta.vision/event/company-day-intensiv-20/
END:VEVENT
BEGIN:VEVENT
DTSTART;TZID=Europe/Vienna:20251011T090000
DTEND;TZID=Europe/Vienna:20251011T130000
DTSTAMP:20260424T151925
CREATED:20250901T152005Z
LAST-MODIFIED:20250901T152005Z
UID:8201-1760173200-1760187600@www.mta.vision
SUMMARY:COMPANY DAY - BASICS
DESCRIPTION:
URL:https://www.mta.vision/event/company-day-basics-33/
END:VEVENT
BEGIN:VEVENT
DTSTART;TZID=Europe/Vienna:20250913T140000
DTEND;TZID=Europe/Vienna:20250913T180000
DTSTAMP:20260424T151925
CREATED:20250911T111945Z
LAST-MODIFIED:20250911T111945Z
UID:8238-1757772000-1757786400@www.mta.vision
SUMMARY:Herbstfest/ Muldenstraße
DESCRIPTION:
URL:https://www.mta.vision/event/herbstfest-muldenstrasse/
END:VEVENT
BEGIN:VEVENT
DTSTART;TZID=Europe/Vienna:20250909T194500
DTEND;TZID=Europe/Vienna:20250909T203000
DTSTAMP:20260424T151925
CREATED:20250901T152149Z
LAST-MODIFIED:20250911T111327Z
UID:8224-1757447100-1757449800@www.mta.vision
SUMMARY:Infostunde Intensives/Stage-Group
DESCRIPTION:
URL:https://www.mta.vision/event/infostunde-intensives-stage-group-2/
LOCATION:Buchensaal\, Puchenau
END:VEVENT
BEGIN:VEVENT
DTSTART;TZID=Europe/Vienna:20250909T190000
DTEND;TZID=Europe/Vienna:20250909T194500
DTSTAMP:20260424T151925
CREATED:20250901T152149Z
LAST-MODIFIED:20250911T111520Z
UID:8223-1757444400-1757447100@www.mta.vision
SUMMARY:Infostunde Basics
DESCRIPTION:
URL:https://www.mta.vision/event/infostunde-basics-2/
LOCATION:Buchensaal\, Puchenau
END:VEVENT
BEGIN:VEVENT
DTSTART;TZID=Europe/Vienna:20250909T180000
DTEND;TZID=Europe/Vienna:20250909T190000
DTSTAMP:20260424T151925
CREATED:20250901T152148Z
LAST-MODIFIED:20250911T111420Z
UID:8222-1757440800-1757444400@www.mta.vision
SUMMARY:Infostunde Pre-Basics
DESCRIPTION:
URL:https://www.mta.vision/event/infostunde-pre-basics-2/
LOCATION:Buchensaal\, Puchenau
END:VEVENT
BEGIN:VEVENT
DTSTART;TZID=Europe/Vienna:20250525T150000
DTEND;TZID=Europe/Vienna:20250525T150000
DTSTAMP:20260424T151925
CREATED:20240704T190715Z
LAST-MODIFIED:20240704T190715Z
UID:7739-1748185200-1748185200@www.mta.vision
SUMMARY:Abschluss-Show#2
DESCRIPTION:
URL:https://www.mta.vision/event/abschluss-show2/
END:VEVENT
BEGIN:VEVENT
DTSTART;TZID=Europe/Vienna:20250524T190000
DTEND;TZID=Europe/Vienna:20250524T190000
DTSTAMP:20260424T151925
CREATED:20240704T190715Z
LAST-MODIFIED:20240704T191254Z
UID:7738-1748113200-1748113200@www.mta.vision
SUMMARY:Abschluss-Show#1
DESCRIPTION:
URL:https://www.mta.vision/event/abschluss-show1/
END:VEVENT
BEGIN:VEVENT
DTSTART;TZID=Europe/Vienna:20250517T100000
DTEND;TZID=Europe/Vienna:20250517T140000
DTSTAMP:20260424T151925
CREATED:20240704T190715Z
LAST-MODIFIED:20250318T112512Z
UID:7736-1747476000-1747490400@www.mta.vision
SUMMARY:COMPANY DAY - INTENSIV
DESCRIPTION:Hauptprobe 2 Abschluss-Show
URL:https://www.mta.vision/event/company-day-basics-32/
END:VEVENT
BEGIN:VEVENT
DTSTART;TZID=Europe/Vienna:20250517T090000
DTEND;TZID=Europe/Vienna:20250517T130000
DTSTAMP:20260424T151925
CREATED:20240704T190645Z
LAST-MODIFIED:20250318T112543Z
UID:7728-1747472400-1747486800@www.mta.vision
SUMMARY:COMPANY DAY - BASICS
DESCRIPTION:Hauptprobe  2 Abschluss-Show
URL:https://www.mta.vision/event/company-day-basics-24/
END:VEVENT
BEGIN:VEVENT
DTSTART;TZID=Europe/Vienna:20250516T160000
DTEND;TZID=Europe/Vienna:20250516T160000
DTSTAMP:20260424T151925
CREATED:20240704T190715Z
LAST-MODIFIED:20250318T112623Z
UID:7737-1747411200-1747411200@www.mta.vision
SUMMARY:Hauptprobe 1 Abschluss-Show
DESCRIPTION:
URL:https://www.mta.vision/event/generalprobe-abschluss-show/
END:VEVENT
BEGIN:VEVENT
DTSTART;TZID=Europe/Vienna:20250426T100000
DTEND;TZID=Europe/Vienna:20250426T140000
DTSTAMP:20260424T151925
CREATED:20240704T190700Z
LAST-MODIFIED:20240704T191037Z
UID:7735-1745661600-1745676000@www.mta.vision
SUMMARY:COMPANY DAY - INTENSIV
DESCRIPTION:plus Basics
URL:https://www.mta.vision/event/company-day-basics-31/
END:VEVENT
BEGIN:VEVENT
DTSTART;TZID=Europe/Vienna:20250426T090000
DTEND;TZID=Europe/Vienna:20250426T130000
DTSTAMP:20260424T151925
CREATED:20240704T190644Z
LAST-MODIFIED:20240704T190644Z
UID:7727-1745658000-1745672400@www.mta.vision
SUMMARY:COMPANY DAY - BASICS
DESCRIPTION:
URL:https://www.mta.vision/event/company-day-basics-23/
END:VEVENT
BEGIN:VEVENT
DTSTART;TZID=Europe/Vienna:20250322T100000
DTEND;TZID=Europe/Vienna:20250322T140000
DTSTAMP:20260424T151925
CREATED:20240704T190700Z
LAST-MODIFIED:20240704T191029Z
UID:7734-1742637600-1742652000@www.mta.vision
SUMMARY:COMPANY DAY - INTENSIV
DESCRIPTION:
URL:https://www.mta.vision/event/company-day-basics-30/
END:VEVENT
BEGIN:VEVENT
DTSTART;TZID=Europe/Vienna:20250315T090000
DTEND;TZID=Europe/Vienna:20250315T130000
DTSTAMP:20260424T151925
CREATED:20240704T190644Z
LAST-MODIFIED:20240704T190644Z
UID:7726-1742029200-1742043600@www.mta.vision
SUMMARY:COMPANY DAY - BASICS
DESCRIPTION:
URL:https://www.mta.vision/event/company-day-basics-22/
END:VEVENT
END:VCALENDAR